BEGIN:VCALENDAR
VERSION:2.0
PRODID:-//gravity - ECPv6.15.20//NONSGML v1.0//EN
CALSCALE:GREGORIAN
METHOD:PUBLISH
X-ORIGINAL-URL:https://gravitycenter.com
X-WR-CALDESC:Events for gravity
REFRESH-INTERVAL;VALUE=DURATION:PT1H
X-Robots-Tag:noindex
X-PUBLISHED-TTL:PT1H
BEGIN:VTIMEZONE
TZID:America/Chicago
BEGIN:DAYLIGHT
TZOFFSETFROM:-0600
TZOFFSETTO:-0500
TZNAME:CDT
DTSTART:20120311T080000
END:DAYLIGHT
BEGIN:STANDARD
TZOFFSETFROM:-0500
TZOFFSETTO:-0600
TZNAME:CST
DTSTART:20121104T070000
END:STANDARD
BEGIN:DAYLIGHT
TZOFFSETFROM:-0600
TZOFFSETTO:-0500
TZNAME:CDT
DTSTART:20130310T080000
END:DAYLIGHT
BEGIN:STANDARD
TZOFFSETFROM:-0500
TZOFFSETTO:-0600
TZNAME:CST
DTSTART:20131103T070000
END:STANDARD
BEGIN:DAYLIGHT
TZOFFSETFROM:-0600
TZOFFSETTO:-0500
TZNAME:CDT
DTSTART:20140309T080000
END:DAYLIGHT
BEGIN:STANDARD
TZOFFSETFROM:-0500
TZOFFSETTO:-0600
TZNAME:CST
DTSTART:20141102T070000
END:STANDARD
BEGIN:DAYLIGHT
TZOFFSETFROM:-0600
TZOFFSETTO:-0500
TZNAME:CDT
DTSTART:20150308T080000
END:DAYLIGHT
BEGIN:STANDARD
TZOFFSETFROM:-0500
TZOFFSETTO:-0600
TZNAME:CST
DTSTART:20151101T070000
END:STANDARD
END:VTIMEZONE
BEGIN:VEVENT
DTSTART;VALUE=DATE:20140926
DTEND;VALUE=DATE:20140929
DTSTAMP:20260421T062654
CREATED:20140226T231951Z
LAST-MODIFIED:20140820T001851Z
UID:1885-1411689600-1411948799@gravitycenter.com
SUMMARY:Grounding Retreat in Schuyler\, Nebraska
DESCRIPTION:Grounding retreats are for people who are new to contemplative spirituality. \nDrawing from the Christian contemplative tradition\, retreatants explore history\, methodology and practice\, have opportunity to debrief experience of contemplative prayer\, and discover implications for daily life and faith. \nGrounding retreats give participants the opportunity to detach and rest from hectic and fragmented lives to engage in small doses of solitude\, silence and stillness\, within a supportive community. \nRetreatants leave Grounding retreats more centered and grounded in their identity\, with a deeper understanding for how to integrate their inner life of contemplation with their outer life of activity. \nRetreatants taste the possibility of living from a place of more wholeness\, peace and compassion. \nRegister Here \nArrival and Departure Information \nThe retreat begins Friday with dinner at 6:15pm followed by an opening session. The retreat ends Sunday after lunch. Lunch is served at 12:15pm. \nThe Benedictine Retreat Center in Schuyler\, NE is about an hour and a half drive from Omaha. If you are flying in/out of Omaha\, you’ll need to schedule your arrival by 3:00pm on Friday and departure for after 3:00pm on Sunday. Retreatants are invited to enjoy a reception at Chris and Phileena Heuertz home Sunday afternoon before you return to your home. \nMany retreatants coming in from out of town rent a car. A couple weeks out\, we will be in touch regarding transportation options for those who may need a ride. If you are driving and are willing to help carpool\, please let us know. \nWe look forward to sharing sacred space with you.
URL:https://gravitycenter.com/event/grounding-retreat-in-schuyler-nebraska/
LOCATION:IN
CATEGORIES:Retreat
END:VEVENT
BEGIN:VEVENT
DTSTART;TZID=America/Chicago:20140915T190000
DTEND;TZID=America/Chicago:20140915T210000
DTSTAMP:20260421T062654
CREATED:20140818T221343Z
LAST-MODIFIED:20140818T221453Z
UID:2357-1410807600-1410814800@gravitycenter.com
SUMMARY:Willow Creek's "Practice" in Chicago\, Illinois
DESCRIPTION:Willow Creek Community Church hosts Phileena Heuertz at their weekly service called “The Practice.” Phileena will introduce gatherers to the practice of Centering Prayer.
URL:https://gravitycenter.com/event/introducing-centering-prayer-at-willow-creeks-practice-in-chicago-illinois/
LOCATION:Willow Creek Chapel\, 67 E Algonquin Rd\, S Barrington\, IL\, 60010\, United States
CATEGORIES:Church
END:VEVENT
BEGIN:VEVENT
DTSTART;VALUE=DATE:20140726
DTEND;VALUE=DATE:20140728
DTSTAMP:20260421T062654
CREATED:20140513T171627Z
LAST-MODIFIED:20140513T174708Z
UID:2227-1406332800-1406505599@gravitycenter.com
SUMMARY:Vocare Speaker Series: "The Cost of Freedom" in Omaha\, Nebraska
DESCRIPTION:This is free event open to the public\, hosted by Lifegate Church\, as part of Gravity’s Vocare Speaker Series. \nGravity\, a Center for Contemplative Activism is pleased to announce an anti-human trafficking advocacy and awareness event\, “The Cost of Freedom” with human trafficking survivor Shandra Woworuntu and anti-human trafficking activist Chris Heuertz. \n“The Cost of Freedom” is part of Gravity’s Vōcaré Speaker Series: A Series of Conversations on the Crossroads of Spirituality and Social Engagement. Vōcaré\, from the Latin for “to call\,” is the root from which the English word “vocation” is derived. The Vōcaré Speakers Series sounds the call for freedom for all people and helps participants clarify their call to make the world a better place. \nThere will be 3 session as follows in Lifegate’s weekend services: \nSaturday 7/26\, 6:00pm \nSunday 7/27\, 9:00am and 10:45am \n 
URL:https://gravitycenter.com/event/vocare-speaker-series-the-cost-of-freedom-in-omaha-nebraska/
LOCATION:Lifegate Church\, 15555 W. Dodge Rd.\, Omaha\, NE\, 68154\, United States
CATEGORIES:Church,Conference,Public Meeting
ORGANIZER;CN="Lifegate Church":MAILTO:info@lifegateomaha.com
END:VEVENT
BEGIN:VEVENT
DTSTART;VALUE=DATE:20140607
DTEND;VALUE=DATE:20140626
DTSTAMP:20260421T062654
CREATED:20140114T194427Z
LAST-MODIFIED:20140114T224937Z
UID:1655-1402099200-1403740799@gravitycenter.com
SUMMARY:Solidarity Pilgrimage in Southeast Asia
DESCRIPTION:Gravity is leading a solidarity pilgrimage to Southeast Asia. A carefully curated diverse group of conversation partners will journey together in the spirit of pilgrimage to learn\, lament and hope for a better world. \nPilgrims will be introduced to survivors of poverty\, systemic injustice and trafficking\, as well as activists working to address the disparities. Pilgrims will be invited to consider how their life of privilege and opportunity is connected to those who have so much less. Partnerships will be created in service of doing good better. \nConnect with us to inquire about future solidarity pilgrimages.
URL:https://gravitycenter.com/event/solidarity-pilgrimage-in-southeast-asia/
LOCATION:IN
CATEGORIES:Pilgrimage
END:VEVENT
BEGIN:VEVENT
DTSTART;VALUE=DATE:20140530
DTEND;VALUE=DATE:20140602
DTSTAMP:20260421T062654
CREATED:20140224T205920Z
LAST-MODIFIED:20140509T153757Z
UID:1852-1401408000-1401667199@gravitycenter.com
SUMMARY:Hearts Open Active Contemplation Retreat in Toronto\, Ontario
DESCRIPTION:Chris will lead an “active-contemplative retreat\,” for the congregation and speak in the Sunday services\, focusing on a space to meet with God who created us for both rest and action. \nThis is a public event. \nFriday: Contemplative Retreat \nSaturday: Contemplative Retreat \nSunday: 11am and 5pm services \nConnect with us to invite Chris to speak at your event or facilitate a retreat.
URL:https://gravitycenter.com/event/knox-presbyterian-church-missions-conference-in-toronto-ontario/
LOCATION:Knox Presbyterian Church\, 630 Spadina Avenue\, Toronto\, Ontario\, M5S 2H4\, Canada
END:VEVENT
BEGIN:VEVENT
DTSTART;VALUE=DATE:20140523
DTEND;VALUE=DATE:20140526
DTSTAMP:20260421T062654
CREATED:20140225T185519Z
LAST-MODIFIED:20140225T185604Z
UID:1858-1400803200-1401062399@gravitycenter.com
SUMMARY:First Presbyterian Church of Berkeley All Church Conference in Mount Hermon\, California
DESCRIPTION:Chris and Phileena are the featured speakers for this prevent annual all church conference. Focusing on their embodied commitment to the Christian faith\, Chris and Phileena will illuminate contemplative activism as a way of renewal\, devotion and practice for parishioners to live out their faith in relevant ways. \nConnect with us to invite Chris and Phileena to be a part of your event.
URL:https://gravitycenter.com/event/first-presbyterian-church-of-berkeley-all-church-concference-in-mount-hermon-california/
LOCATION:Mount Hermon Christian Conference Center\, 37 Conference Drive\, Mount Hermon\, CA\, United States
CATEGORIES:Church,Conference,Retreat
END:VEVENT
BEGIN:VEVENT
DTSTART;VALUE=DATE:20140516
DTEND;VALUE=DATE:20140519
DTSTAMP:20260421T062654
CREATED:20140225T171517Z
LAST-MODIFIED:20140225T171517Z
UID:1855-1400198400-1400457599@gravitycenter.com
SUMMARY:Trinity Grace Tribeca Parish Retreat in New York\, New York
DESCRIPTION:Chris and Phileena will co-lead a private contemplative retreat for the parishioners of Trinity Grace Tribeca. \nConnect with us to schedule Chris and Phileena to facilitate a retreat for your parish.
URL:https://gravitycenter.com/event/trinity-grace-tribeca-parish-retreat-in-new-york-new-york/
LOCATION:Trinity Grace Tribeca\, New York\, NY\, United States
CATEGORIES:Church,Retreat
ORGANIZER;CN="Trinity Grace Tribeca":MAILTO:michael@trinitygracechurch.com
END:VEVENT
BEGIN:VEVENT
DTSTART;VALUE=DATE:20140430
DTEND;VALUE=DATE:20140501
DTSTAMP:20260421T062654
CREATED:20140114T181147Z
LAST-MODIFIED:20140114T182832Z
UID:1649-1398816000-1398902399@gravitycenter.com
SUMMARY:Cataylst in Dallas\, Texas
DESCRIPTION:Phileena will offer a lab on the theme\, “Known: Knowing Ourselves and Knowing our Identity in Christ.” \nConnect with us to invite Phileena to speak at your event.
URL:https://gravitycenter.com/event/cataylst-in-dallas-texas/
LOCATION:Bent Tree Bible Fellowship\, 4141 International Pkwy\, Carrollton\, TX\, 75007\, United States
CATEGORIES:Church,Conference
END:VEVENT
BEGIN:VEVENT
DTSTART;VALUE=DATE:20140409
DTEND;VALUE=DATE:20140411
DTSTAMP:20260421T062654
CREATED:20140114T175936Z
LAST-MODIFIED:20140204T171140Z
UID:1647-1397001600-1397174399@gravitycenter.com
SUMMARY:Taylor University in Upland\, Indiana
DESCRIPTION:At the invitation of the Honors Guild\, Phileena will be on campus at Taylor University to speak in chapel and lead a seminar for students and faculty\, focusing on vocation. \nWeds 4/9  Chapel (10:00 am)\, Luncheon and Evening Private Session with Student Leaders \nThurs 4/10 Morning Guided Session with Student Leaders and Faculty Luncheon Session \nConnect with us to invite Phileena to visit your campus or community. \n 
URL:https://gravitycenter.com/event/taylor-university-in-upland-indiana/
LOCATION:Taylor University\, Upland\, IN\, United States
CATEGORIES:Consultation,Public Meeting,University
END:VEVENT
BEGIN:VEVENT
DTSTART;VALUE=DATE:20140404
DTEND;VALUE=DATE:20140407
DTSTAMP:20260421T062654
CREATED:20140226T231329Z
LAST-MODIFIED:20140226T231723Z
UID:1883-1396569600-1396828799@gravitycenter.com
SUMMARY:Deepening Retreat in Schuyler\, Nebraska
DESCRIPTION:April 4-6\, 2014 \n$325 \nRegister Here \nDeepening retreats are for people who are acquainted with the history and methodology of contemplative spirituality\, have a daily prayer sit practice (like centering prayer) and who desire to deepen their practice. \nRetreatants gather together for approximately 8 silent prayer sits and 3 yoga sessions. Prayer sits are separated by a meditative walk\, healthy meals\, yoga practice\, prayer with the monks\, and solitude for personal rest and reflection. \nDeepening retreats give participants the opportunity to exercise significant amounts of solitude\, silence and stillness within a supportive community; bringing more balance to the contemplative and active dimensions of life and faith. \nRetreatants leave Deepening retreats rooted in their spirituality and able to draw from a deeper well as they engage their active life. \n  \nArrival and Departure Information \nThe retreat begins Friday with dinner at 6:15pm followed by an opening session that ushers in Grand Silence until closing session on Sunday. The retreat ends Sunday after lunch. Lunch is served at 12:15pm. \nThe Benedictine Retreat Center in Schuyler\, NE is about an hour and a half drive from Omaha. If you are flying in/out of Omaha\, you’ll need to schedule your arrival by 3:00pm on Friday and departure for after 3:00pm on Sunday. Retreatants are invited to enjoy a reception at Chris and Phileena Heuertz home Sunday afternoon before you return to your home. \nMany retreatants coming in from out of town rent a car. A couple weeks out\, we will be in touch regarding transportation options for those who may need a ride. If you are driving and are willing to help carpool\, please let us know. \nWe look forward to sharing sacred space with you. \n 
URL:https://gravitycenter.com/event/deepening-retreat-in-schuyler-nebraska/
LOCATION:St. Benedict Center\, 1126 Road I\, Schuyler\, NE\, 68661\, United States
CATEGORIES:Retreat
END:VEVENT
BEGIN:VEVENT
DTSTART;VALUE=DATE:20140327
DTEND;VALUE=DATE:20140330
DTSTAMP:20260421T062654
CREATED:20140224T205047Z
LAST-MODIFIED:20140224T205047Z
UID:1851-1395878400-1396137599@gravitycenter.com
SUMMARY:EastLake Community Church in Seattle\, Washington
DESCRIPTION:Chris and Phileena will be in Seattle to meet with leaders of EastLake church and record a message for the congregation. \nConnect with us to invite Chris and/or Phileena to speak for your church or recent.
URL:https://gravitycenter.com/event/eastlake-community-church-in-seattle-washington/
LOCATION:EastLake Community Church\, Seattle\, WA\, United States
CATEGORIES:Church
END:VEVENT
BEGIN:VEVENT
DTSTART;VALUE=DATE:20140228
DTEND;VALUE=DATE:20140418
DTSTAMP:20260421T062654
CREATED:20140114T195520Z
LAST-MODIFIED:20140114T225004Z
UID:1656-1393545600-1397779199@gravitycenter.com
SUMMARY:Contemplative Activist in Residence in Omaha\, Nebraska
DESCRIPTION:Gravity will host its first Contemplative Activist in Residence (CAIR). The CAIR program supports leading\, innovative activists who desire a sabbatical for renewal and personal\, professional and spiritual development. CAIR participants take part in pilgrimage\, spiritual direction\, contemplative prayer sits\, contemplative retreat and mentorship meetings. \nConnect with us to inquire about CAIR.
URL:https://gravitycenter.com/event/contemplative-activist-in-residence-in-omaha-nebraska/
LOCATION:The Gravity Center\, Omaha\, NE\, United States
CATEGORIES:Contemplative Activist in Residence
END:VEVENT
BEGIN:VEVENT
DTSTART;VALUE=DATE:20140228
DTEND;VALUE=DATE:20140318
DTSTAMP:20260421T062654
CREATED:20140114T193558Z
LAST-MODIFIED:20140114T225213Z
UID:1654-1393545600-1395100799@gravitycenter.com
SUMMARY:Solidarity Pilgrimage in Rwanda
DESCRIPTION:Gravity is leading a solidarity pilgrimage to Rwanda to commemorate the 20th anniversary of genocide. A carefully curated diverse group of conversation partners will journey together in the spirit of pilgrimage to remember\, lament and hope for a better world. \nConnect with us to inquire about future solidarity pilgrimages.
URL:https://gravitycenter.com/event/solidarity-pilgrimage-in-rwanda/
LOCATION:IN
CATEGORIES:Pilgrimage
END:VEVENT
BEGIN:VEVENT
DTSTART;VALUE=DATE:20140205
DTEND;VALUE=DATE:20140208
DTSTAMP:20260421T062654
CREATED:20140114T174841Z
LAST-MODIFIED:20140114T182717Z
UID:1643-1391558400-1391817599@gravitycenter.com
SUMMARY:EastLake Community Church Contemplative Retreat in Seattle\, Washington
DESCRIPTION:This is a private contemplative retreat for church overseers. Chris and Phileena will guide participants through the history\, tradition and methodology of contemplative spirituality. Participants will practice various contemplative prayers and debrief experiences. \nConnect with us to schedule a retreat for your group.
URL:https://gravitycenter.com/event/eastlake-community-church-contemplative-retreat-in-seattle-washington/
LOCATION:EastLake Community Church\, Seattle\, WA\, United States
CATEGORIES:Church,Retreat
END:VEVENT
BEGIN:VEVENT
DTSTART;TZID=America/Chicago:20140126T080000
DTEND;TZID=America/Chicago:20140126T170000
DTSTAMP:20260421T062654
CREATED:20130820T192949Z
LAST-MODIFIED:20140114T182605Z
UID:1341-1390723200-1390755600@gravitycenter.com
SUMMARY:North Avenue Presbyterian Church Mission Conference 2014\, Atlanta\, Georgia
DESCRIPTION:This is a public event. Chris will speak in the Sunday services at 9 a.m.\, 11 a.m.\, 5:45 p.m.\, and during a lunchtime dialogue. Please contact the church for more information. \nConnect with us to invite Chris to speak at your event.
URL:https://gravitycenter.com/event/north-avenue-presbyterian-church-mission-conference-2014-atlanta-georgia/
LOCATION:North Avenue Presbyterian Church\, 607 Peachtree St. NE\, Atlanta\, GA\, 30308\, United States
CATEGORIES:Church,Conference
END:VEVENT
BEGIN:VEVENT
DTSTART;TZID=America/Chicago:20131115T150000
DTEND;TZID=America/Chicago:20131116T210000
DTSTAMP:20260421T062654
CREATED:20130926T231552Z
LAST-MODIFIED:20131017T221118Z
UID:1457-1384527600-1384635600@gravitycenter.com
SUMMARY:Quiet :: a Retreat for Silence\, Solitude & Stillness in Portland\, OR
DESCRIPTION:
URL:https://gravitycenter.com/event/contemplative-retreat-portland-or/
LOCATION:Portland Foursquare\, 2830 NE Flanders Street\, Portland\, 97232
CATEGORIES:Retreat
ORGANIZER;CN="Greg Russinger":MAILTO:greg@pdx4.org
END:VEVENT
BEGIN:VEVENT
DTSTART;TZID=America/Chicago:20131109T090000
DTEND;TZID=America/Chicago:20131109T160000
DTSTAMP:20260421T062654
CREATED:20130807T033238Z
LAST-MODIFIED:20130807T033238Z
UID:1310-1383987600-1384012800@gravitycenter.com
SUMMARY:Women’s Prayer Retreat in Omaha\, Nebraska
DESCRIPTION:
URL:https://gravitycenter.com/event/womens-prayer-retreat-in-omaha-nebraska/
LOCATION:Countryside Community Church\, 8787 Pacific Street\, Omaha\, NE\, 68114\, United States
CATEGORIES:Retreat
ORGANIZER;CN="Countryside%E2%80%99s Life Ministry":MAILTO:marybethl@countrysideucc.org
END:VEVENT
BEGIN:VEVENT
DTSTART;TZID=America/Chicago:20131102T080000
DTEND;TZID=America/Chicago:20131102T170000
DTSTAMP:20260421T062654
CREATED:20130807T032306Z
LAST-MODIFIED:20130820T182248Z
UID:1303-1383379200-1383411600@gravitycenter.com
SUMMARY:Denver Faith & Justice Conference in Denver\, Colorado
DESCRIPTION:
URL:https://gravitycenter.com/event/denver-faith-justice-conference-in-denver-colorado/
LOCATION:Temple Events Center\, 1595 Pearl St\, Denver\, CO\, 80203\, United States
CATEGORIES:Conference
END:VEVENT
BEGIN:VEVENT
DTSTART;TZID=America/Chicago:20131020T100000
DTEND;TZID=America/Chicago:20131020T130000
DTSTAMP:20260421T062654
CREATED:20130820T191807Z
LAST-MODIFIED:20130926T232454Z
UID:1335-1382263200-1382274000@gravitycenter.com
SUMMARY:No Fear Friendships :: Overcoming Poverty\, Omaha\, Nebraska
DESCRIPTION:This is a public event. Contact organizer for more information.
URL:https://gravitycenter.com/event/no-fear-friendships-overcoming-poverty-omaha-nebraska/
LOCATION:Dundee Presbyterian Church\, 5312 Underwood Ave\, Omaha\, NE\, United States
CATEGORIES:Church
ORGANIZER;CN="Jann Glenn":MAILTO:jglenn@dpcomaha.org	
END:VEVENT
BEGIN:VEVENT
DTSTART;VALUE=DATE:20131011
DTEND;VALUE=DATE:20131014
DTSTAMP:20260421T062654
CREATED:20130326T022103Z
LAST-MODIFIED:20131011T160846Z
UID:411-1381449600-1381708799@gravitycenter.com
SUMMARY:Salvation Army Eastern Territorial Young Adult Retreat in Waymart\, Pennsylvania
DESCRIPTION:Nestled at the Salvation Army’s Camp Ladore in Waymart\, PA\, Salvation Army Young Adults gather together from all over the east coast to nurture their faith and explore ways to offer their gifts and interest in service of the world. Focusing on this year’s theme\, “Another World is Possible\,” Chris and Phileena Heuertz will introduce contemplative activism as a way to live faith with inspiring impact. \nConnect with us to inquire about scheduling a retreat for your group.
URL:https://gravitycenter.com/event/salvation-army-event/
LOCATION:Camp Ladore Salvation Army Retreat and Conference Center\, 398 South Street \, Waymart\, PA\, 18472\, United States
CATEGORIES:Retreat
END:VEVENT
BEGIN:VEVENT
DTSTART;VALUE=DATE:20131007
DTEND;VALUE=DATE:20131010
DTSTAMP:20260421T062654
CREATED:20130827T173909Z
LAST-MODIFIED:20130827T174127Z
UID:1357-1381104000-1381363199@gravitycenter.com
SUMMARY:Price of Life Conference in New York\, New York
DESCRIPTION:This is a public event geared toward college students to (1) Increase awareness of human trafficking (2) Inspire action steps (3) Raise spiritual questions about why the world is like this\, whether there is a spiritual solution\, and what God has to do with it. \nContact organizer for more details. \nOctober 7\, 7 PM; “Organizing Communities Against Injustice: Views from the Front Lines” – Fordham University Campus\, Room TBD; with Maurice Middleberg (ED of Free the Slaves) \nOctober 8\, 1 PM; “Freedom is a Human Right” – Hunter at Roosevelt Institute (downtown); Panel Discussion with Greg Darley (IJM)\, Diana Mao (Nomi Network) \nOctober 8\, 8 PM; “Child Soldiers” – Price of Life Pop-Up Store\, Voce Di | 43-45 Grand Street | New York NY 10013; 15-20 minute talk; fellow speaker David Batstone (Not for Sale) \nOctober 9\, 1:30 PM; “International Showcase” –  Hunter College\, 15-20 minute talk \nOctober 9\, 6:30 PM\, Event Name TBD (Hispanic Niche Event) – City College; Panel Discussion or Open Mic Night\, with Norma Ramos (CATW)\, Orlando Crespo (IVCF/USA – La Fey)
URL:https://gravitycenter.com/event/price-of-life-in-new-york-new-york/
LOCATION:University Campuses across NYC\, New York\, United States
CATEGORIES:Conference
ORGANIZER;CN="Jeannie Rose Field":MAILTO:PriceofLifeNYC@gmail.com
END:VEVENT
BEGIN:VEVENT
DTSTART;TZID=America/Chicago:20131002T160000
DTEND;TZID=America/Chicago:20131004T130000
DTSTAMP:20260421T062654
CREATED:20130326T022103Z
LAST-MODIFIED:20130820T181746Z
UID:414-1380729600-1380891600@gravitycenter.com
SUMMARY:Gravity Contemplative Retreat in Schuyler\, Nebraska
DESCRIPTION:This is an annual contemplative retreat open to the public. Learn More.
URL:https://gravitycenter.com/event/gravity-contemplative-retreat/
LOCATION:IN
CATEGORIES:Retreat
END:VEVENT
BEGIN:VEVENT
DTSTART;VALUE=DATE:20130919
DTEND;VALUE=DATE:20130922
DTSTAMP:20260421T062654
CREATED:20130326T022103Z
LAST-MODIFIED:20130911T201321Z
UID:418-1379548800-1379807999@gravitycenter.com
SUMMARY:Oklahoma State University Contemplative Retreat in Stillwater\, Oklahoma
DESCRIPTION:This is a public retreat hosted by the Wesley Foundation. Connect with us to inquire about scheduling your event.
URL:https://gravitycenter.com/event/osu-wesley-foundation-student-retreat/
LOCATION:OSU Wesley Foundation\, 823 West University Ave\, Stillwater\, OK\, 74074\, United States
CATEGORIES:Retreat,University
END:VEVENT
BEGIN:VEVENT
DTSTART;TZID=America/Chicago:20130912T190000
DTEND;TZID=America/Chicago:20130912T200000
DTSTAMP:20260421T062654
CREATED:20130822T175513Z
LAST-MODIFIED:20130926T232529Z
UID:1351-1379012400-1379016000@gravitycenter.com
SUMMARY:Prayer and Service :: A Church of the Brethren Webinar
DESCRIPTION:This is a free\, public event. Join us for an interactive presentation on the relationship between prayer practices and service. How does prayer inform and support our witness for peace and service in the world? For more information\, contact the event organizer.
URL:https://gravitycenter.com/event/prayer-and-service-a-church-of-the-brethren-webinar/
LOCATION:Church of the Brethren Webinar
CATEGORIES:Webinar
ORGANIZER;CN="Joshua Brockway%2C Director of Spiritual Life and Discipleship for the Church of the Brethren%E2%80%82":MAILTO:jbrockway@brethren.org    
END:VEVENT
BEGIN:VEVENT
DTSTART;VALUE=DATE:20130811
DTEND;VALUE=DATE:20130814
DTSTAMP:20260421T062654
CREATED:20130326T022103Z
LAST-MODIFIED:20130328T234501Z
UID:440-1376179200-1376438399@gravitycenter.com
SUMMARY:Contemplative Retreat in Corbett\, Oregon
DESCRIPTION:This is a private\, contracted retreat for Compassion International staff.
URL:https://gravitycenter.com/event/contemplative-retreat-compassion-intl/
LOCATION:Menucha Retreat & Conference Center\, 38711 E. Historic Columbia River Hwy.\, Corbett\, OR\, 97019-0008\, United States
CATEGORIES:Retreat
END:VEVENT
BEGIN:VEVENT
DTSTART;TZID=America/Chicago:20130527T070000
DTEND;TZID=America/Chicago:20130527T210000
DTSTAMP:20260421T062654
CREATED:20130423T171437Z
LAST-MODIFIED:20130426T202033Z
UID:1158-1369638000-1369688400@gravitycenter.com
SUMMARY:Unexpected Gifts Book Event in Richmond\, Virginia
DESCRIPTION:Join us as Chris discusses his new book\, Unexpected Gifts. Copies will be available for purchase and signing. Click here for information about the book and editorial reviews.
URL:https://gravitycenter.com/event/unexpected-gifts-book-even/
LOCATION:Union Presbyterian Seminary\, 3401 Brook Rd\, Richmond\, VA\, 23227\, United States
CATEGORIES:Seminary
END:VEVENT
BEGIN:VEVENT
DTSTART;TZID=America/Chicago:20130526T160000
DTEND;TZID=America/Chicago:20130526T180000
DTSTAMP:20260421T062654
CREATED:20130328T232229Z
LAST-MODIFIED:20130426T204056Z
UID:749-1369584000-1369591200@gravitycenter.com
SUMMARY:East End Fellowship Church Service in Richmond\, Virginia
DESCRIPTION:Chris Heuertz reflects on themes from his book Friendship at the Margins.
URL:https://gravitycenter.com/event/east-end-fellowship-church-service-in-richmond-virginia/
LOCATION:Robinson Theatre\, 2903 Q St.\, Richmond\, VA\, 23223\, United States
CATEGORIES:Church
END:VEVENT
BEGIN:VEVENT
DTSTART;VALUE=DATE:20130525
DTEND;VALUE=DATE:20130527
DTSTAMP:20260421T062654
CREATED:20130426T202642Z
LAST-MODIFIED:20130426T203937Z
UID:1155-1369440000-1369612799@gravitycenter.com
SUMMARY:East End Fellowship All Church Retreat in Lowesville\, Virginia
DESCRIPTION:During this private retreat\, Chris Heuertz guides the congregation to reflect on how some of the hardest aspects of community are God’s greatest gifts. \nConnect with us to schedule your event.
URL:https://gravitycenter.com/event/east-end-fellowship-all-church-retreat-in-lowesville-virginia/
LOCATION:Crossroads Camp and Retreat Center\, 2247 Little Piney Rd\, Lowesville\, VA\, 22967\, United States
END:VEVENT
BEGIN:VEVENT
DTSTART;VALUE=DATE:20130523
DTEND;VALUE=DATE:20130603
DTSTAMP:20260421T062654
CREATED:20130326T022103Z
LAST-MODIFIED:20130328T234347Z
UID:447-1369267200-1370217599@gravitycenter.com
SUMMARY:Contemplative Retreat in New York\, New York
DESCRIPTION:This is a private\, contracted retreat for a local church.
URL:https://gravitycenter.com/event/contemplative-retreat-new-york/
LOCATION:NY\, United States
CATEGORIES:Church,Retreat
END:VEVENT
BEGIN:VEVENT
DTSTART;TZID=America/Chicago:20130430T193000
DTEND;TZID=America/Chicago:20130430T203000
DTSTAMP:20260421T062654
CREATED:20130328T204154Z
LAST-MODIFIED:20130328T204154Z
UID:695-1367350200-1367353800@gravitycenter.com
SUMMARY:Prayer of Examen Webinar
DESCRIPTION:This is a private\, contracted webinar. Connect with us to schedule a webinar for your group.
URL:https://gravitycenter.com/event/prayer-of-examen-webinar/
LOCATION:IN
CATEGORIES:Webinar
END:VEVENT
END:VCALENDAR