BEGIN:VCALENDAR
VERSION:2.0
PRODID:-//gravity - ECPv6.15.20//NONSGML v1.0//EN
CALSCALE:GREGORIAN
METHOD:PUBLISH
X-WR-CALNAME:gravity
X-ORIGINAL-URL:https://gravitycenter.com
X-WR-CALDESC:Events for gravity
REFRESH-INTERVAL;VALUE=DURATION:PT1H
X-Robots-Tag:noindex
X-PUBLISHED-TTL:PT1H
BEGIN:VTIMEZONE
TZID:America/Chicago
BEGIN:DAYLIGHT
TZOFFSETFROM:-0600
TZOFFSETTO:-0500
TZNAME:CDT
DTSTART:20120311T080000
END:DAYLIGHT
BEGIN:STANDARD
TZOFFSETFROM:-0500
TZOFFSETTO:-0600
TZNAME:CST
DTSTART:20121104T070000
END:STANDARD
BEGIN:DAYLIGHT
TZOFFSETFROM:-0600
TZOFFSETTO:-0500
TZNAME:CDT
DTSTART:20130310T080000
END:DAYLIGHT
BEGIN:STANDARD
TZOFFSETFROM:-0500
TZOFFSETTO:-0600
TZNAME:CST
DTSTART:20131103T070000
END:STANDARD
BEGIN:DAYLIGHT
TZOFFSETFROM:-0600
TZOFFSETTO:-0500
TZNAME:CDT
DTSTART:20140309T080000
END:DAYLIGHT
BEGIN:STANDARD
TZOFFSETFROM:-0500
TZOFFSETTO:-0600
TZNAME:CST
DTSTART:20141102T070000
END:STANDARD
END:VTIMEZONE
BEGIN:VEVENT
DTSTART;VALUE=DATE:20130811
DTEND;VALUE=DATE:20130814
DTSTAMP:20260421T111124
CREATED:20130326T022103Z
LAST-MODIFIED:20130328T234501Z
UID:440-1376179200-1376438399@gravitycenter.com
SUMMARY:Contemplative Retreat in Corbett\, Oregon
DESCRIPTION:This is a private\, contracted retreat for Compassion International staff.
URL:https://gravitycenter.com/event/contemplative-retreat-compassion-intl/
LOCATION:Menucha Retreat & Conference Center\, 38711 E. Historic Columbia River Hwy.\, Corbett\, OR\, 97019-0008\, United States
CATEGORIES:Retreat
END:VEVENT
BEGIN:VEVENT
DTSTART;TZID=America/Chicago:20130527T070000
DTEND;TZID=America/Chicago:20130527T210000
DTSTAMP:20260421T111124
CREATED:20130423T171437Z
LAST-MODIFIED:20130426T202033Z
UID:1158-1369638000-1369688400@gravitycenter.com
SUMMARY:Unexpected Gifts Book Event in Richmond\, Virginia
DESCRIPTION:Join us as Chris discusses his new book\, Unexpected Gifts. Copies will be available for purchase and signing. Click here for information about the book and editorial reviews.
URL:https://gravitycenter.com/event/unexpected-gifts-book-even/
LOCATION:Union Presbyterian Seminary\, 3401 Brook Rd\, Richmond\, VA\, 23227\, United States
CATEGORIES:Seminary
END:VEVENT
BEGIN:VEVENT
DTSTART;TZID=America/Chicago:20130526T160000
DTEND;TZID=America/Chicago:20130526T180000
DTSTAMP:20260421T111124
CREATED:20130328T232229Z
LAST-MODIFIED:20130426T204056Z
UID:749-1369584000-1369591200@gravitycenter.com
SUMMARY:East End Fellowship Church Service in Richmond\, Virginia
DESCRIPTION:Chris Heuertz reflects on themes from his book Friendship at the Margins.
URL:https://gravitycenter.com/event/east-end-fellowship-church-service-in-richmond-virginia/
LOCATION:Robinson Theatre\, 2903 Q St.\, Richmond\, VA\, 23223\, United States
CATEGORIES:Church
END:VEVENT
BEGIN:VEVENT
DTSTART;VALUE=DATE:20130525
DTEND;VALUE=DATE:20130527
DTSTAMP:20260421T111124
CREATED:20130426T202642Z
LAST-MODIFIED:20130426T203937Z
UID:1155-1369440000-1369612799@gravitycenter.com
SUMMARY:East End Fellowship All Church Retreat in Lowesville\, Virginia
DESCRIPTION:During this private retreat\, Chris Heuertz guides the congregation to reflect on how some of the hardest aspects of community are God’s greatest gifts. \nConnect with us to schedule your event.
URL:https://gravitycenter.com/event/east-end-fellowship-all-church-retreat-in-lowesville-virginia/
LOCATION:Crossroads Camp and Retreat Center\, 2247 Little Piney Rd\, Lowesville\, VA\, 22967\, United States
END:VEVENT
BEGIN:VEVENT
DTSTART;VALUE=DATE:20130523
DTEND;VALUE=DATE:20130603
DTSTAMP:20260421T111124
CREATED:20130326T022103Z
LAST-MODIFIED:20130328T234347Z
UID:447-1369267200-1370217599@gravitycenter.com
SUMMARY:Contemplative Retreat in New York\, New York
DESCRIPTION:This is a private\, contracted retreat for a local church.
URL:https://gravitycenter.com/event/contemplative-retreat-new-york/
LOCATION:NY\, United States
CATEGORIES:Church,Retreat
END:VEVENT
BEGIN:VEVENT
DTSTART;TZID=America/Chicago:20130430T193000
DTEND;TZID=America/Chicago:20130430T203000
DTSTAMP:20260421T111124
CREATED:20130328T204154Z
LAST-MODIFIED:20130328T204154Z
UID:695-1367350200-1367353800@gravitycenter.com
SUMMARY:Prayer of Examen Webinar
DESCRIPTION:This is a private\, contracted webinar. Connect with us to schedule a webinar for your group.
URL:https://gravitycenter.com/event/prayer-of-examen-webinar/
LOCATION:VA
CATEGORIES:Webinar
END:VEVENT
BEGIN:VEVENT
DTSTART;TZID=America/Chicago:20130419T190000
DTEND;TZID=America/Chicago:20130421T110000
DTSTAMP:20260421T111124
CREATED:20130326T022103Z
LAST-MODIFIED:20130330T023854Z
UID:452-1366398000-1366542000@gravitycenter.com
SUMMARY:Boone UMC Mission Celebration in Boone\, North Carolina
DESCRIPTION:This event takes place Friday\, 7:00pm\, Saturday 7:00pm and Sunday 8:45am.
URL:https://gravitycenter.com/event/boone-umc/
LOCATION:Boone United Methodist Church\, 471 New Market Blvd\, Boone\, NC\, 28607\, United States
CATEGORIES:Church,Conference
END:VEVENT
BEGIN:VEVENT
DTSTART;TZID=America/Chicago:20130416T164500
DTEND;TZID=America/Chicago:20130416T170000
DTSTAMP:20260421T111124
CREATED:20130416T175453Z
LAST-MODIFIED:20130416T181750Z
UID:1144-1366130700-1366131600@gravitycenter.com
SUMMARY:Pie Lab Girls\, Inc. in Omaha\, Nebraska
DESCRIPTION:This is a private event. We’ll introduce and facilitate a short guided meditation/relaxation time with teenage girls participating in Pie Lab Omaha’s math and chemistry baking event.
URL:https://gravitycenter.com/event/pie-lab-girls-inc-in-omaha-nebraska/
LOCATION:The Mastercraft Building\, 1111 N. 13th St.\, Omaha\, NE\, 68102\, United States
END:VEVENT
BEGIN:VEVENT
DTSTART;VALUE=DATE:20130414
DTEND;VALUE=DATE:20130415
DTSTAMP:20260421T111124
CREATED:20130326T022103Z
LAST-MODIFIED:20130328T233835Z
UID:454-1365897600-1365983999@gravitycenter.com
SUMMARY:The River Community Church in Ventura\, California
DESCRIPTION:
URL:https://gravitycenter.com/event/the-river-community-church/
LOCATION:The River Community Church\, Ventura\, CA\, 93001\, United States
CATEGORIES:Church
END:VEVENT
BEGIN:VEVENT
DTSTART;TZID=America/Chicago:20130411T190000
DTEND;TZID=America/Chicago:20130411T203000
DTSTAMP:20260421T111124
CREATED:20130321T160408Z
LAST-MODIFIED:20130328T233937Z
UID:387-1365706800-1365712200@gravitycenter.com
SUMMARY:Fuller Theological Seminary in Pasadena\, California
DESCRIPTION:The Center for Lifelong Learning hosts Chris and Phileena Heuertz to share their reflections on contemplation and community.
URL:https://gravitycenter.com/event/fuller-theological-seminary/
LOCATION:Fuller Theological Seminary – Payton  101\, 135 N. Oakland\, Pasadena\, CA\, 91182\, United States
CATEGORIES:Seminary
END:VEVENT
BEGIN:VEVENT
DTSTART;TZID=America/Chicago:20130411T133000
DTEND;TZID=America/Chicago:20130411T153000
DTSTAMP:20260421T111124
CREATED:20130328T205531Z
LAST-MODIFIED:20130401T201109Z
UID:702-1365687000-1365694200@gravitycenter.com
SUMMARY:Urban Mission Forum in Azusa\, California
DESCRIPTION:Urban Mission: How do you maintain your cool in the hottest\, hardest cities in the world? \n“Come hear Chris and Phileena Heuertz who after years of witnessing burn-out are cultivating contemplative activism for sustainable mission. If you have a heart for global mission\, learning and working alongside people in poverty\, then you do not want to miss this opportunity.” \nSponsored by MATUL [APU’s MA in Transformational Urban Leadership] \nClick here for more info.
URL:https://gravitycenter.com/event/urban-mission-forum/
LOCATION:Azusa Pacific University\, 921 E Alosta Ave\,  \, Azusa\, 9170\, United States
CATEGORIES:University
ORGANIZER;CN="Chiraphone Khamphouvong":MAILTO:matul@apu.edu
END:VEVENT
BEGIN:VEVENT
DTSTART;TZID=America/Chicago:20130410T093000
DTEND;TZID=America/Chicago:20130410T130000
DTSTAMP:20260421T111124
CREATED:20130321T160310Z
LAST-MODIFIED:20130329T024751Z
UID:385-1365586200-1365598800@gravitycenter.com
SUMMARY:Biola University in La Mirada\, California
DESCRIPTION:Phileena Heuertz is a featured speaker for Biola’s Forgiveness Awareness Week and will speak on the theme\, From Blame to Love—how contemplative prayer creates capacity for forgiveness. Following chapel\, Phileena and Chris Heuertz will host a luncheon discussion on contemplative activism.
URL:https://gravitycenter.com/event/biola-university/
LOCATION:Biola University\, 13800 Biola Ave\,\, La Mirada\, CA\, 90639\, United States
CATEGORIES:University
END:VEVENT
BEGIN:VEVENT
DTSTART;TZID=America/Chicago:20130409T102000
DTEND;TZID=America/Chicago:20130409T112000
DTSTAMP:20260421T111124
CREATED:20130321T160152Z
LAST-MODIFIED:20130328T221814Z
UID:384-1365502800-1365506400@gravitycenter.com
SUMMARY:Life Pacific College in San Dimas\, CA
DESCRIPTION:Chris Heuertz speaks in chapel.
URL:https://gravitycenter.com/event/life-pacific-college/
LOCATION:Life Pacific Colllege\, 1100 W. Covina Blvd\, San Dimas\, 91773\, United States
CATEGORIES:University
END:VEVENT
BEGIN:VEVENT
DTSTART;TZID=America/Chicago:20130402T193000
DTEND;TZID=America/Chicago:20130402T210000
DTSTAMP:20260421T111124
CREATED:20130328T203822Z
LAST-MODIFIED:20130328T203926Z
UID:694-1364931000-1364936400@gravitycenter.com
SUMMARY:Lectio Divina Webinar
DESCRIPTION:This is a private\, contracted webinar for Compassion International. Connect with us to schedule a webinar for your group.
URL:https://gravitycenter.com/event/lectio-divina-webinar/
LOCATION:VA
CATEGORIES:Webinar
END:VEVENT
BEGIN:VEVENT
DTSTART;VALUE=DATE:20130402
DTEND;VALUE=DATE:20130405
DTSTAMP:20260421T111124
CREATED:20130328T223215Z
LAST-MODIFIED:20130328T223215Z
UID:723-1364860800-1365119999@gravitycenter.com
SUMMARY:The Re-Envisioning Urbana Consultation in Orlando\, Florida
DESCRIPTION:This is a private event.
URL:https://gravitycenter.com/event/the-re-envisioning-urbana-consultation-in-orlando-florida/
LOCATION:Unnamed Venue\, Orlando\, FL\, United States
CATEGORIES:Consultation
END:VEVENT
BEGIN:VEVENT
DTSTART;TZID=America/Chicago:20130326T093000
DTEND;TZID=America/Chicago:20130326T102000
DTSTAMP:20260421T111124
CREATED:20130321T155926Z
LAST-MODIFIED:20130328T215717Z
UID:381-1364290200-1364293200@gravitycenter.com
SUMMARY:Hardin-Simmons University in Abilene\, Texas
DESCRIPTION:Chris Heuertz speaks at chapel.
URL:https://gravitycenter.com/event/hardin-simmons-university/
LOCATION:Hardin-Simmons University\, 2200 Hickory St\, Abilene\, TX\, 79601\, United States
CATEGORIES:University
END:VEVENT
BEGIN:VEVENT
DTSTART;VALUE=DATE:20130321
DTEND;VALUE=DATE:20130322
DTSTAMP:20260421T111124
CREATED:20130321T155755Z
LAST-MODIFIED:20130328T220048Z
UID:379-1363824000-1363910399@gravitycenter.com
SUMMARY:Church of the Resurrection in Omaha\, Nebraska
DESCRIPTION:This is a private event centered on Chris Heuertz’ book\, Unexpected Gifts\, with the Resurrection House intern program—an Episcopal internship for young adult discernment.
URL:https://gravitycenter.com/event/church-of-the-resurrection/
LOCATION:Church of the Resurrection\, 30th & Kansas Ave SE\, Omaha\, NE\, United States
CATEGORIES:Church
END:VEVENT
BEGIN:VEVENT
DTSTART;VALUE=DATE:20130318
DTEND;VALUE=DATE:20130320
DTSTAMP:20260421T111124
CREATED:20130308T150811Z
LAST-MODIFIED:20130328T220549Z
UID:355-1363564800-1363737599@gravitycenter.com
SUMMARY:Northwestern College in Orange City\, Iowa
DESCRIPTION:Under the auspices of Ronald R. Nelson Scholars and Artists in Residence Program\, Chris Heuertz speaks in both Monday and Tuesday morning chapels\, in select classrooms and an evening student forum event. Read this press release for more information about the event.
URL:https://gravitycenter.com/event/northwestern-college/
LOCATION:Northwestern College\, 101 7th St SW\, Orange City\, IA\, United States
CATEGORIES:University
END:VEVENT
BEGIN:VEVENT
DTSTART;VALUE=DATE:20130312
DTEND;VALUE=DATE:20130314
DTSTAMP:20260421T111124
CREATED:20130308T150438Z
LAST-MODIFIED:20130328T221024Z
UID:352-1363046400-1363219199@gravitycenter.com
SUMMARY:Contemplative Retreat in Nebraska City\, Nebraska
DESCRIPTION:This is a private\, contracted retreat for church staff.
URL:https://gravitycenter.com/event/contemplative-retreat-nebraska-city/
LOCATION:Lied Lodge\, 2700 Sylvan Rd\, Nebraska City\, 68410\, United States
CATEGORIES:Church,Retreat
END:VEVENT
BEGIN:VEVENT
DTSTART;TZID=America/Chicago:20130307T100000
DTEND;TZID=America/Chicago:20130307T160000
DTSTAMP:20260421T111124
CREATED:20130328T222204Z
LAST-MODIFIED:20130328T230538Z
UID:713-1362650400-1362672000@gravitycenter.com
SUMMARY:Presbyterian Camp on Okoboji in Milford\, Iowa
DESCRIPTION:Join Chris Heuertz at the semi-annual clergy retreat for a one day interactive forum on community and contemplation.
URL:https://gravitycenter.com/event/presbyterian-camp-on-okoboji-in-milford-iowa/
LOCATION:Presbyterian Camp on Okoboji\, 1864 Highway 86\, Milford\, IA\, 51351\, United States
CATEGORIES:Retreat
END:VEVENT
BEGIN:VEVENT
DTSTART;VALUE=DATE:20130227
DTEND;VALUE=DATE:20130301
DTSTAMP:20260421T111124
CREATED:20130328T222524Z
LAST-MODIFIED:20130328T222524Z
UID:715-1361923200-1362095999@gravitycenter.com
SUMMARY:Abilene Christian University in Abilene\, Texas
DESCRIPTION:Chris will be the feautured speaker at ABU’s annual missions campus conversation during the 2013 Broom Colloquium. Join Chris for 2 full days of chapel services\, classroom conversations\, and student/faculty talk back forums on his 2nd book\, Friendship at the Margins: Discovering Mutuality in Service and Mission
URL:https://gravitycenter.com/event/abilene-christian-university-in-abilene-texas/
LOCATION:Abilene Christian University\, 1600 Campus Court\, Abilene\,\, Abilene\, TX\, 79699\, United States
CATEGORIES:University
END:VEVENT
BEGIN:VEVENT
DTSTART;TZID=America/Chicago:20130221T190000
DTEND;TZID=America/Chicago:20130221T210000
DTSTAMP:20260421T111124
CREATED:20130328T225756Z
LAST-MODIFIED:20130328T225756Z
UID:744-1361473200-1361480400@gravitycenter.com
SUMMARY:Elements in Chicago\, Illinois
DESCRIPTION:“Ironically\, as much as we yearn for deep friendships and meaningful communities\, many of us seem to be unable to find our way into them. Even if we know we’re made for community\, finding one and staying there seems almost impossible. Though we hate to admit it\, if we stay long enough in any relationship or set of friendships\, we will experience failure\, doubt\, burnout\, loneliness\, transitions\, a loss of self\, betrayal\, frustration\, a sense of entitlement\, grief\, and weariness. Yet it’s these painful community experiences\, these tensions we struggle to navigate\, that hold surprising gifts.” \nElements[Chicago] speaker Chris Heurtz has experienced community in many forms from his hometown of Omaha to some of the most poverty stricken parts of the world. And yet\, his experience of community is universal. Come hear how Chris believes that some of the toughest parts of community can be some of life’s most unexpected gifts.
URL:https://gravitycenter.com/event/elements-in-chicago-illinois/
LOCATION:Fizz Bar & Grill\, 3220 LIncoln Ave\, Chicago\, IL\, 60657\, United States
CATEGORIES:Public Meeting
END:VEVENT
BEGIN:VEVENT
DTSTART;TZID=America/Chicago:20130219T120000
DTEND;TZID=America/Chicago:20130219T133000
DTSTAMP:20260421T111124
CREATED:20130328T225025Z
LAST-MODIFIED:20130328T230438Z
UID:736-1361275200-1361280600@gravitycenter.com
SUMMARY:Trinity Evangelical Divinity School in Deerfield\, Illinois
DESCRIPTION:Following chapel\, Chris Heuertz will be available for a student forum on Community and Contemplation led by Scott Samuelson.
URL:https://gravitycenter.com/event/trinity-evangelical-divinity-school-in-deerfield-illinois/
LOCATION:Trinity Evangelical Divinity School\, 2065 Half Day Rd\, Deerfield\, IL\, 60015\, United States
CATEGORIES:University
END:VEVENT
BEGIN:VEVENT
DTSTART;TZID=America/Chicago:20130218T190000
DTEND;TZID=America/Chicago:20130218T210000
DTSTAMP:20260421T111124
CREATED:20130328T225554Z
LAST-MODIFIED:20130328T231358Z
UID:742-1361214000-1361221200@gravitycenter.com
SUMMARY:The Marin Foundation's Living in the Tension Meeting in Chicago\, Illinois
DESCRIPTION:We’re excited to be hosting Chris Heuertz in Chicago as a part of our Living in the Tension series to share some thoughts with us connected to his new book\, Unexpected Gifts: Discovering the Way of Community. \nIn ‘Unexpected Gifts’\, Chris names the inevitable challenges that all friendships\, relationships\, and communities experience if they stay together long enough. Rather than allowing these challenges to become excuses to leave\, he suggests that things like betrayal\, transitions\, failure\, loss of identity\, entitlement\, and doubt may actually be invitations to stay. And in staying\, Chris expands upon how these challenges can become unexpected gifts. \nView the book trailer here. \nThere are few\, if any\, people that have influenced our work with The Marin Foundation like Chris. For the last 20 years\, Chris served as the Co-Director for Word Made Flesh\, an organization seeking to serve Jesus among the poorest of the poor. Recently\, Chris has begun a new venture with Phileena Heuertz in establishing the organization\, Gravity – A Center for Contemplative Activism. At the center\, they are helping those on mission and activists to do good better by grounding their work in contemplative spirituality. \nWe will be gathering in the Fellowship Hall on the bottom level of First Free. We hope that you can come out and join us for the night!
URL:https://gravitycenter.com/event/the-marin-foundations-living-in-the-tension-meeting-in-chicago-illinois/
LOCATION:5255 N Ashland Ave\, Chicago\, IL\, 60640\, United States
CATEGORIES:Public Meeting
END:VEVENT
BEGIN:VEVENT
DTSTART;TZID=America/Chicago:20130218T110000
DTEND;TZID=America/Chicago:20130218T140000
DTSTAMP:20260421T111124
CREATED:20130328T225319Z
LAST-MODIFIED:20130328T230349Z
UID:740-1361185200-1361196000@gravitycenter.com
SUMMARY:North Park Theological Seminiary in Chicago\, Illinois
DESCRIPTION:Soong-Chan Rah hosts Chris Heuertz for afternoon of classroom conversations around the inevitable challenges and unexpected gifts of staying in community.
URL:https://gravitycenter.com/event/north-park-theological-seminiary-in-chicago-illinois/
LOCATION:North Park Theological Seminiary\, 3225 W Foster Ave\, Chicago\, IL\, 60625\, United States
CATEGORIES:Seminary
END:VEVENT
BEGIN:VEVENT
DTSTART;TZID=America/Chicago:20130217T180000
DTEND;TZID=America/Chicago:20130217T200000
DTSTAMP:20260421T111124
CREATED:20130328T225149Z
LAST-MODIFIED:20130328T230229Z
UID:738-1361124000-1361131200@gravitycenter.com
SUMMARY:Wheaton College in Wheaton\, Illinios
DESCRIPTION:Wheaton’s Global Christian Fellowship hosts Chris for an evening on conversations around ethical challenges and implications of community’s engaged in social justice movements.
URL:https://gravitycenter.com/event/wheaton-college-in-wheaton-illinios-2/
LOCATION:Wheaton College\, 501 College Ave\, Wheaton\, IL\, 60187\, United States
CATEGORIES:University
END:VEVENT
BEGIN:VEVENT
DTSTART;TZID=America/Chicago:20130217T180000
DTEND;TZID=America/Chicago:20130217T200000
DTSTAMP:20260421T111124
CREATED:20130328T224827Z
LAST-MODIFIED:20130328T230315Z
UID:734-1361124000-1361131200@gravitycenter.com
SUMMARY:Wheaton College in Wheaton\, Illinios
DESCRIPTION:Wheaton’s Global Christian Fellowship hosts Chris for an evening on conversations around ethical challenges and implications of community’s engaged in social justice movements.
URL:https://gravitycenter.com/event/wheaton-college-in-wheaton-illinios/
LOCATION:Wheaton College\, 501 College Ave\, Wheaton\, IL\, 60187\, United States
CATEGORIES:University
END:VEVENT
BEGIN:VEVENT
DTSTART;TZID=America/Chicago:20130217T090000
DTEND;TZID=America/Chicago:20130217T130000
DTSTAMP:20260421T111124
CREATED:20130328T224628Z
LAST-MODIFIED:20130328T230134Z
UID:732-1361091600-1361106000@gravitycenter.com
SUMMARY:La Salle Street Church in Chicago\, Illinois
DESCRIPTION:Chris Heuertz will be La Salle Street Church’s guest speaker for both Sunday morning worship services and then will be available for talkback forum over a community meal. All are welcome.
URL:https://gravitycenter.com/event/la-salle-street-church-in-chicago-illinois/
LOCATION:La Salle Street Church in Chicago\, Illinois\, 1136 N La Salle Dr\, Chicago\, IL\, 60610\, United States
CATEGORIES:Church
END:VEVENT
BEGIN:VEVENT
DTSTART;TZID=America/Chicago:20130209T100000
DTEND;TZID=America/Chicago:20130210T130000
DTSTAMP:20260421T111124
CREATED:20130328T223042Z
LAST-MODIFIED:20130328T223042Z
UID:721-1360404000-1360501200@gravitycenter.com
SUMMARY:Crossroads Christian Church in Largo\, Florida
DESCRIPTION:Chris Heuertz will be this year’s keynote speaker for Crossroads Christian Church’s annual Faith Promise missions weekend.
URL:https://gravitycenter.com/event/crossroads-christian-church-in-largo-florida/
LOCATION:Crossroads Christian Church\, 1645 Seminole Blvd.\, Largo\, FL\, 33778\, United States
CATEGORIES:Church
END:VEVENT
BEGIN:VEVENT
DTSTART;VALUE=DATE:20130204
DTEND;VALUE=DATE:20130207
DTSTAMP:20260421T111124
CREATED:20130328T223523Z
LAST-MODIFIED:20130328T223523Z
UID:727-1359936000-1360195199@gravitycenter.com
SUMMARY:Anderson University in Anderson\, Indiana
DESCRIPTION:This year’s annual Impact Your World Week is Chris Heuertz\, founding partner of Gravity\, a Center for Contemplative Activism.
URL:https://gravitycenter.com/event/anderson-university-in-anderson-indiana/
LOCATION:Anderson University\, 1100 E. Fifth Street\, Anderson\, IN\, United States
CATEGORIES:University
END:VEVENT
END:VCALENDAR