BEGIN:VCALENDAR
VERSION:2.0
PRODID:-//gravity - ECPv6.15.20//NONSGML v1.0//EN
CALSCALE:GREGORIAN
METHOD:PUBLISH
X-WR-CALNAME:gravity
X-ORIGINAL-URL:https://gravitycenter.com
X-WR-CALDESC:Events for gravity
REFRESH-INTERVAL;VALUE=DURATION:PT1H
X-Robots-Tag:noindex
X-PUBLISHED-TTL:PT1H
BEGIN:VTIMEZONE
TZID:America/Chicago
BEGIN:DAYLIGHT
TZOFFSETFROM:-0600
TZOFFSETTO:-0500
TZNAME:CDT
DTSTART:20120311T080000
END:DAYLIGHT
BEGIN:STANDARD
TZOFFSETFROM:-0500
TZOFFSETTO:-0600
TZNAME:CST
DTSTART:20121104T070000
END:STANDARD
BEGIN:DAYLIGHT
TZOFFSETFROM:-0600
TZOFFSETTO:-0500
TZNAME:CDT
DTSTART:20130310T080000
END:DAYLIGHT
BEGIN:STANDARD
TZOFFSETFROM:-0500
TZOFFSETTO:-0600
TZNAME:CST
DTSTART:20131103T070000
END:STANDARD
BEGIN:DAYLIGHT
TZOFFSETFROM:-0600
TZOFFSETTO:-0500
TZNAME:CDT
DTSTART:20140309T080000
END:DAYLIGHT
BEGIN:STANDARD
TZOFFSETFROM:-0500
TZOFFSETTO:-0600
TZNAME:CST
DTSTART:20141102T070000
END:STANDARD
END:VTIMEZONE
BEGIN:VEVENT
DTSTART;TZID=America/Chicago:20130218T110000
DTEND;TZID=America/Chicago:20130218T140000
DTSTAMP:20260421T155444
CREATED:20130328T225319Z
LAST-MODIFIED:20130328T230349Z
UID:740-1361185200-1361196000@gravitycenter.com
SUMMARY:North Park Theological Seminiary in Chicago\, Illinois
DESCRIPTION:Soong-Chan Rah hosts Chris Heuertz for afternoon of classroom conversations around the inevitable challenges and unexpected gifts of staying in community.
URL:https://gravitycenter.com/event/north-park-theological-seminiary-in-chicago-illinois/
LOCATION:North Park Theological Seminiary\, 3225 W Foster Ave\, Chicago\, IL\, 60625\, United States
CATEGORIES:Seminary
END:VEVENT
BEGIN:VEVENT
DTSTART;TZID=America/Chicago:20130217T180000
DTEND;TZID=America/Chicago:20130217T200000
DTSTAMP:20260421T155444
CREATED:20130328T225149Z
LAST-MODIFIED:20130328T230229Z
UID:738-1361124000-1361131200@gravitycenter.com
SUMMARY:Wheaton College in Wheaton\, Illinios
DESCRIPTION:Wheaton’s Global Christian Fellowship hosts Chris for an evening on conversations around ethical challenges and implications of community’s engaged in social justice movements.
URL:https://gravitycenter.com/event/wheaton-college-in-wheaton-illinios-2/
LOCATION:Wheaton College\, 501 College Ave\, Wheaton\, IL\, 60187\, United States
CATEGORIES:University
END:VEVENT
BEGIN:VEVENT
DTSTART;TZID=America/Chicago:20130217T180000
DTEND;TZID=America/Chicago:20130217T200000
DTSTAMP:20260421T155444
CREATED:20130328T224827Z
LAST-MODIFIED:20130328T230315Z
UID:734-1361124000-1361131200@gravitycenter.com
SUMMARY:Wheaton College in Wheaton\, Illinios
DESCRIPTION:Wheaton’s Global Christian Fellowship hosts Chris for an evening on conversations around ethical challenges and implications of community’s engaged in social justice movements.
URL:https://gravitycenter.com/event/wheaton-college-in-wheaton-illinios/
LOCATION:Wheaton College\, 501 College Ave\, Wheaton\, IL\, 60187\, United States
CATEGORIES:University
END:VEVENT
BEGIN:VEVENT
DTSTART;TZID=America/Chicago:20130217T090000
DTEND;TZID=America/Chicago:20130217T130000
DTSTAMP:20260421T155444
CREATED:20130328T224628Z
LAST-MODIFIED:20130328T230134Z
UID:732-1361091600-1361106000@gravitycenter.com
SUMMARY:La Salle Street Church in Chicago\, Illinois
DESCRIPTION:Chris Heuertz will be La Salle Street Church’s guest speaker for both Sunday morning worship services and then will be available for talkback forum over a community meal. All are welcome.
URL:https://gravitycenter.com/event/la-salle-street-church-in-chicago-illinois/
LOCATION:La Salle Street Church in Chicago\, Illinois\, 1136 N La Salle Dr\, Chicago\, IL\, 60610\, United States
CATEGORIES:Church
END:VEVENT
BEGIN:VEVENT
DTSTART;TZID=America/Chicago:20130209T100000
DTEND;TZID=America/Chicago:20130210T130000
DTSTAMP:20260421T155444
CREATED:20130328T223042Z
LAST-MODIFIED:20130328T223042Z
UID:721-1360404000-1360501200@gravitycenter.com
SUMMARY:Crossroads Christian Church in Largo\, Florida
DESCRIPTION:Chris Heuertz will be this year’s keynote speaker for Crossroads Christian Church’s annual Faith Promise missions weekend.
URL:https://gravitycenter.com/event/crossroads-christian-church-in-largo-florida/
LOCATION:Crossroads Christian Church\, 1645 Seminole Blvd.\, Largo\, FL\, 33778\, United States
CATEGORIES:Church
END:VEVENT
BEGIN:VEVENT
DTSTART;VALUE=DATE:20130204
DTEND;VALUE=DATE:20130207
DTSTAMP:20260421T155444
CREATED:20130328T223523Z
LAST-MODIFIED:20130328T223523Z
UID:727-1359936000-1360195199@gravitycenter.com
SUMMARY:Anderson University in Anderson\, Indiana
DESCRIPTION:This year’s annual Impact Your World Week is Chris Heuertz\, founding partner of Gravity\, a Center for Contemplative Activism.
URL:https://gravitycenter.com/event/anderson-university-in-anderson-indiana/
LOCATION:Anderson University\, 1100 E. Fifth Street\, Anderson\, IN\, United States
CATEGORIES:University
END:VEVENT
BEGIN:VEVENT
DTSTART;TZID=America/Chicago:20130127T100000
DTEND;TZID=America/Chicago:20130127T233000
DTSTAMP:20260421T155444
CREATED:20130328T223405Z
LAST-MODIFIED:20130328T230036Z
UID:725-1359280800-1359329400@gravitycenter.com
SUMMARY:New Hope Covenant Church in Oakland\, California
DESCRIPTION:Chris will be speaking during the 10AM Sunday worship service on his newest book\, Unexpected Gifts.
URL:https://gravitycenter.com/event/new-hope-covenant-church-in-oakland-california/
LOCATION:New Hope Covenant Church\, Corner of 23rd Ave & International Blvd\, Oakland\, CA\, United States
CATEGORIES:Church
END:VEVENT
BEGIN:VEVENT
DTSTART;TZID=America/Chicago:20130125T100000
DTEND;TZID=America/Chicago:20130125T110000
DTSTAMP:20260421T155444
CREATED:20130125T232851Z
LAST-MODIFIED:20130328T232404Z
UID:719-1359108000-1359111600@gravitycenter.com
SUMMARY:Eastern University in St. Davids\, Pennsylvania
DESCRIPTION:Chris will be this week’s Windows on the World chapel speaker\, discussing the inevitable challenges and surprising gifts of staying in community.
URL:https://gravitycenter.com/event/eastern-university-in-st-davids-pennsylvania/
LOCATION:McInnis Auditorium\, 1300 Eagle Road\, St. David's\, PA\, 19807\, United States
CATEGORIES:University
END:VEVENT
BEGIN:VEVENT
DTSTART;TZID=America/Chicago:20130120T180000
DTEND;TZID=America/Chicago:20130120T200000
DTSTAMP:20260421T155444
CREATED:20130120T232715Z
LAST-MODIFIED:20130328T225956Z
UID:717-1358704800-1358712000@gravitycenter.com
SUMMARY:Creighton University in Omaha\, Nebraska
DESCRIPTION:Join Chris as he launches his Unexpected Gifts book tour with Creighton University’s Cortina Program.
URL:https://gravitycenter.com/event/creighton-university-in-omaha-nebraska/
LOCATION:St. John’s Catholic Church\, Omaha\, NE\, United States
CATEGORIES:University
END:VEVENT
END:VCALENDAR